BEGIN:VCALENDAR

VERSION:2.0

PRODID:-//hacksw/handcal//NONSGML v1.0//EN
BEGIN:VEVENT

UID:8b181b720cb58baea4d917ce0293d7c3

DTSTAMP:20260423T231331Z

DTSTART:20260109T1200000Z

SUMMARY:Index of Industrial Production, November 2025

END:VEVENT
BEGIN:VEVENT

UID:5a75384627ed34df4aa000e3d512ed1f

DTSTAMP:20260423T231331Z

DTSTART:20260109T1200000Z

SUMMARY:Monthly Manufacturing Statistics, Malaysia, November 2025

END:VEVENT
BEGIN:VEVENT

UID:eb7b04279a7defddc4591efcb4fb85b2

DTSTAMP:20260423T231331Z

DTSTART:20260109T1200000Z

SUMMARY:Performance of Wholesale & Retail Trade, November 2025

END:VEVENT
BEGIN:VEVENT

UID:4719aa17395c6eb31025d1a8c9053b4c

DTSTAMP:20260423T231331Z

DTSTART:20260109T1200000Z

SUMMARY:Labour Force Statistics, November 2025

END:VEVENT
BEGIN:VEVENT

UID:494bc53b77301420d23c549a8afb0114

DTSTAMP:20260423T231331Z

DTSTART:20260112T1200000Z

SUMMARY:Special Release 1 - For Civil Engineering Works Peninsular Malaysia, December 2025

END:VEVENT
BEGIN:VEVENT

UID:81bd67bdd92289938458a2a76dde1aed

DTSTAMP:20260423T231331Z

DTSTART:20260112T1200000Z

SUMMARY:Special Release 1 - For Civil Engineering Works Sabah and Sarawak, December 2025

END:VEVENT
BEGIN:VEVENT

UID:49c33dada89dc574f2b9281807f6eaac

DTSTAMP:20260423T231331Z

DTSTART:20260112T1200000Z

SUMMARY:Special Release 2 - For Building and Structural Works, December 2025

END:VEVENT
BEGIN:VEVENT

UID:7a17c47f531ffccabded90a4071e6dbf

DTSTAMP:20260423T231331Z

DTSTART:20260112T1200000Z

SUMMARY:Special Release 2 - For Building and Structural Works Sabah and Sarawak, December 2025

END:VEVENT
BEGIN:VEVENT

UID:e5cc94c06d34616ab65a719e5321364f

DTSTAMP:20260423T231331Z

DTSTART:20260112T1200000Z

SUMMARY:Special Release 3 - Mechanical and Electrical Works Malaysia, December 2025

END:VEVENT
BEGIN:VEVENT

UID:ceaccab6511d136d7ae115ae575c35bb

DTSTAMP:20260423T231331Z

DTSTART:20260113T1200000Z

SUMMARY:Monthly Rubber Statistics, November 2025

END:VEVENT
BEGIN:VEVENT

UID:d89a8f83df0975b524e41764f45d65d0

DTSTAMP:20260423T231331Z

DTSTART:20260116T1200000Z

SUMMARY:Advance Gross Domestic Product (GDP) Estimates Fourth Quarter 2025

END:VEVENT
BEGIN:VEVENT

UID:d7f0fd4c625a11d1d91d0200a5aa82c6

DTSTAMP:20260423T231331Z

DTSTART:20260120T1200000Z

SUMMARY:Consumer Price Index, December 2025

END:VEVENT
BEGIN:VEVENT

UID:e47b9503cbeefc6d9d3352b62d3c6dd7

DTSTAMP:20260423T231331Z

DTSTART:20260120T1200000Z

SUMMARY:Monthly External Trade Statistics, December 2025

END:VEVENT
BEGIN:VEVENT

UID:63b34981ed2f019bcf43c2974bbd5eb6

DTSTAMP:20260423T231331Z

DTSTART:20260123T1200000Z

SUMMARY:Malaysian Economic Indicators: Leading, Coincident & Lagging Indexes, November 2025

END:VEVENT
BEGIN:VEVENT

UID:4ede78793311b12d374cd511bd8adeba

DTSTAMP:20260423T231331Z

DTSTART:20260127T1200000Z

SUMMARY:Employee Wages Statistics (Formal Sector), Third Quarter 2025

END:VEVENT
BEGIN:VEVENT

UID:8a041e9b287f4379c7f1fd672ac54ebe

DTSTAMP:20260423T231331Z

DTSTART:20260128T1200000Z

SUMMARY:Producer Price Index – Local Production, December 2025

END:VEVENT
BEGIN:VEVENT

UID:dd5f1cc0a210dbccfacb8ca884bd51a8

DTSTAMP:20260423T231331Z

DTSTART:20260128T1200000Z

SUMMARY:Export Import Statistics by State, December 2025

END:VEVENT
BEGIN:VEVENT

UID:70ce4adc5fb6546be67b218883dfe5bb

DTSTAMP:20260423T231331Z

DTSTART:20260128T1200000Z

SUMMARY:Malaysia External Trade Indices, December 2025

END:VEVENT
BEGIN:VEVENT

UID:94e48a5733de3016eab340a569f5d53b

DTSTAMP:20260423T231331Z

DTSTART:20260129T1200000Z

SUMMARY:Monthly Statistical Bulletin Malaysia, November 2025

END:VEVENT
BEGIN:VEVENT

UID:132ae230015b21c465c3d5d3ac82df12

DTSTAMP:20260423T231331Z

DTSTART:20260130T1200000Z

SUMMARY:Malaysian Economic Statistics Review (MESR), Volume 1/2026

END:VEVENT
BEGIN:VEVENT

UID:495b7a16631ce023114216cb003100ba

DTSTAMP:20260423T231331Z

DTSTART:20260130T1200000Z

SUMMARY:Big Data Analytics: Job Market Insights and My Job Profile, First Quarter of 2025

END:VEVENT
END:VCALENDAR
